BEGIN:VCALENDAR
VERSION:2.0
PRODID:-//Lifehouse Maternity Home - ECPv6.15.20//NONSGML v1.0//EN
CALSCALE:GREGORIAN
METHOD:PUBLISH
X-ORIGINAL-URL:https://lifehouselouisville.org
X-WR-CALDESC:Events for Lifehouse Maternity Home
REFRESH-INTERVAL;VALUE=DURATION:PT1H
X-Robots-Tag:noindex
X-PUBLISHED-TTL:PT1H
BEGIN:VTIMEZONE
TZID:America/Kentucky/Louisville
BEGIN:DAYLIGHT
TZOFFSETFROM:-0500
TZOFFSETTO:-0400
TZNAME:EDT
DTSTART:20250309T070000
END:DAYLIGHT
BEGIN:STANDARD
TZOFFSETFROM:-0400
TZOFFSETTO:-0500
TZNAME:EST
DTSTART:20251102T060000
END:STANDARD
BEGIN:DAYLIGHT
TZOFFSETFROM:-0500
TZOFFSETTO:-0400
TZNAME:EDT
DTSTART:20260308T070000
END:DAYLIGHT
BEGIN:STANDARD
TZOFFSETFROM:-0400
TZOFFSETTO:-0500
TZNAME:EST
DTSTART:20261101T060000
END:STANDARD
BEGIN:DAYLIGHT
TZOFFSETFROM:-0500
TZOFFSETTO:-0400
TZNAME:EDT
DTSTART:20270314T070000
END:DAYLIGHT
BEGIN:STANDARD
TZOFFSETFROM:-0400
TZOFFSETTO:-0500
TZNAME:EST
DTSTART:20271107T060000
END:STANDARD
END:VTIMEZONE
BEGIN:VEVENT
DTSTART;TZID=America/Kentucky/Louisville:20260713T083000
DTEND;TZID=America/Kentucky/Louisville:20260713T130000
DTSTAMP:20260423T190535
CREATED:20260415T130121Z
LAST-MODIFIED:20260415T130121Z
UID:10000018-1783931400-1783947600@lifehouselouisville.org
SUMMARY:11th Annual Tee Up Fore Life Golf Scramble
DESCRIPTION:Hit the links for a cause\, with every swing helping provide a safe haven for expectant mothers in crisis. All proceeds directly benefit Lifehouse Maternity Home\, supporting their mission to provide housing\, parenting support\, and essential life skills to women and their babies. Watch your email for a link to register soon!
URL:https://lifehouselouisville.org/event/11th-annual-tee-up-fore-life-golf-scramble/
LOCATION:Oxmoor Country Club\, 9000 LIMEHOUSE LN\, Louisville\, Kentucky\, 40220
ATTACH;FMTTYPE=image/jpeg:https://lifehouselouisville.org/wp-content/uploads/2026/04/Golf-Scramble-Tee-Up-Fore-Life.jpg
END:VEVENT
END:VCALENDAR